BEGIN:VCALENDAR
VERSION:2.0
PRODID:-//University of Embu - ECPv6.3.6//NONSGML v1.0//EN
CALSCALE:GREGORIAN
METHOD:PUBLISH
X-ORIGINAL-URL:https://embuni.ac.ke
X-WR-CALDESC:Events for University of Embu
REFRESH-INTERVAL;VALUE=DURATION:PT1H
X-Robots-Tag:noindex
X-PUBLISHED-TTL:PT1H
BEGIN:VTIMEZONE
TZID:UTC
BEGIN:STANDARD
TZOFFSETFROM:+0000
TZOFFSETTO:+0000
TZNAME:UTC
DTSTART:20250101T000000
END:STANDARD
END:VTIMEZONE
BEGIN:VEVENT
DTSTART;TZID=UTC:20250912T080000
DTEND;TZID=UTC:20250912T130000
DTSTAMP:20260421T181325
CREATED:20220826T113409Z
LAST-MODIFIED:20250813T191538Z
UID:6238-1757664000-1757682000@embuni.ac.ke
SUMMARY:10th Graduation Ceremony
DESCRIPTION:10th Graduation Ceremony \nAnnouncement – 10th Graduation Announcement
URL:https://embuni.ac.ke/event/10th-graduation-ceremony/
LOCATION:UoEm
END:VEVENT
END:VCALENDAR